BEGIN:VCALENDAR
VERSION:2.0
PRODID:-//NACISSA - ECPv6.15.20//NONSGML v1.0//EN
CALSCALE:GREGORIAN
METHOD:PUBLISH
X-ORIGINAL-URL:https://nac-issa.org
X-WR-CALDESC:Events for NACISSA
REFRESH-INTERVAL;VALUE=DURATION:PT1H
X-Robots-Tag:noindex
X-PUBLISHED-TTL:PT1H
BEGIN:VTIMEZONE
TZID:America/Chicago
BEGIN:DAYLIGHT
TZOFFSETFROM:-0600
TZOFFSETTO:-0500
TZNAME:CDT
DTSTART:20240310T080000
END:DAYLIGHT
BEGIN:STANDARD
TZOFFSETFROM:-0500
TZOFFSETTO:-0600
TZNAME:CST
DTSTART:20241103T070000
END:STANDARD
BEGIN:DAYLIGHT
TZOFFSETFROM:-0600
TZOFFSETTO:-0500
TZNAME:CDT
DTSTART:20250309T080000
END:DAYLIGHT
BEGIN:STANDARD
TZOFFSETFROM:-0500
TZOFFSETTO:-0600
TZNAME:CST
DTSTART:20251102T070000
END:STANDARD
BEGIN:DAYLIGHT
TZOFFSETFROM:-0600
TZOFFSETTO:-0500
TZNAME:CDT
DTSTART:20260308T080000
END:DAYLIGHT
BEGIN:STANDARD
TZOFFSETFROM:-0500
TZOFFSETTO:-0600
TZNAME:CST
DTSTART:20261101T070000
END:STANDARD
END:VTIMEZONE
BEGIN:VEVENT
DTSTART;TZID=America/Chicago:20250123T140000
DTEND;TZID=America/Chicago:20250123T190000
DTSTAMP:20260425T183430
CREATED:20250120T164104Z
LAST-MODIFIED:20250120T164106Z
UID:10000017-1737640800-1737658800@nac-issa.org
SUMMARY:Galactic Guardians Cyber Brews
DESCRIPTION:NOTE:  This is not a NAC-ISSA event. \n\n\n\nCome in from the arctic blast this week and join Cyber Brews for: \n\n\n\nGalactic Guardians: Cybersecurity in Space and Beyond \n\n\n\n3.0 CPEs \n\n\n\nCatering by Honey Box Charcuterie! \n\n\n\nCraft Cocktails by The Blind Tiger! \n\n\n\nAmazon Echo Door Prize! \n\n\n\nSeats are selling fast! \n\n\n\nGeneral Admission – $30 \n\n\n\nGovernment/Academia – $15 \n\n\n\nNetworking Only – Free \n\n\n\nSponsorship Packages are available starting at $500! Email Karen Williams (karen.williams@cyber-brews.com) for more information. \n\n\n\nThanks to our Silver Sponsor\, Five Stones Research Corporation!
URL:https://nac-issa.org/event/galactic-guardians-cyber-brews/
LOCATION:The Blind Tiger\, 113 Clinton Ave W\, Huntsville\, 35801\, United States
END:VEVENT
END:VCALENDAR