BEGIN:VCALENDAR
VERSION:2.0
PRODID:-//NACISSA - ECPv6.15.20//NONSGML v1.0//EN
CALSCALE:GREGORIAN
METHOD:PUBLISH
X-ORIGINAL-URL:https://nac-issa.org
X-WR-CALDESC:Events for NACISSA
REFRESH-INTERVAL;VALUE=DURATION:PT1H
X-Robots-Tag:noindex
X-PUBLISHED-TTL:PT1H
BEGIN:VTIMEZONE
TZID:America/Chicago
BEGIN:DAYLIGHT
TZOFFSETFROM:-0600
TZOFFSETTO:-0500
TZNAME:CDT
DTSTART:20240310T080000
END:DAYLIGHT
BEGIN:STANDARD
TZOFFSETFROM:-0500
TZOFFSETTO:-0600
TZNAME:CST
DTSTART:20241103T070000
END:STANDARD
BEGIN:DAYLIGHT
TZOFFSETFROM:-0600
TZOFFSETTO:-0500
TZNAME:CDT
DTSTART:20250309T080000
END:DAYLIGHT
BEGIN:STANDARD
TZOFFSETFROM:-0500
TZOFFSETTO:-0600
TZNAME:CST
DTSTART:20251102T070000
END:STANDARD
BEGIN:DAYLIGHT
TZOFFSETFROM:-0600
TZOFFSETTO:-0500
TZNAME:CDT
DTSTART:20260308T080000
END:DAYLIGHT
BEGIN:STANDARD
TZOFFSETFROM:-0500
TZOFFSETTO:-0600
TZNAME:CST
DTSTART:20261101T070000
END:STANDARD
END:VTIMEZONE
BEGIN:VEVENT
DTSTART;TZID=America/Chicago:20250318T113000
DTEND;TZID=America/Chicago:20250318T123000
DTSTAMP:20260425T074737
CREATED:20250127T000914Z
LAST-MODIFIED:20250416T161619Z
UID:10000020-1742297400-1742301000@nac-issa.org
SUMMARY:Cayosoft sponsors NAC-ISSA March lunch
DESCRIPTION:Cayosoft will be the sponsor for our NAC-ISSA chapter lunch on Tuesday\, March 18\, 2025.  \n\n\n\nTopic:  Hybrid AD and Microsoft Cloud Security and Resiliency \n\n\n\nThis presentation explores securing hybrid Active Directory environments with Microsoft cloud services\, focusing on enhanced security and resiliency. Attendees will learn how Cayosoft’s platform streamlines compliance with tightening policies for protecting and recovering critical infrastructure (E.g.\, CMMC\, CISA BOD 2501\, DORA\, and proposed HIPAA Security Rule updates). The session will cover strategies to protect against cyber threats\, recover from breaches\, and meet regulatory requirements. Through real-world examples\, discover best practices for safeguarding critical systems\, ensuring operational continuity\, and achieving regulatory compliance in today’s evolving threat landscape.  \n\n\n\nRegister now to save the date! Check back soon for more details our caterer and\, of course\, the door prize.
URL:https://nac-issa.org/event/cayosoft-sponsors-nac-issa-march-lunch/
LOCATION:Auburn University Research and Innovation Campus\, 345 Voyager Way\, Huntsville\, AL\, 345 Voyager Way\, Huntsville\, United States
END:VEVENT
END:VCALENDAR