BEGIN:VCALENDAR
VERSION:2.0
PRODID:-//NACISSA - ECPv6.15.20//NONSGML v1.0//EN
CALSCALE:GREGORIAN
METHOD:PUBLISH
X-WR-CALNAME:NACISSA
X-ORIGINAL-URL:https://nac-issa.org
X-WR-CALDESC:Events for NACISSA
REFRESH-INTERVAL;VALUE=DURATION:PT1H
X-Robots-Tag:noindex
X-PUBLISHED-TTL:PT1H
BEGIN:VTIMEZONE
TZID:America/Chicago
BEGIN:DAYLIGHT
TZOFFSETFROM:-0600
TZOFFSETTO:-0500
TZNAME:CDT
DTSTART:20240310T080000
END:DAYLIGHT
BEGIN:STANDARD
TZOFFSETFROM:-0500
TZOFFSETTO:-0600
TZNAME:CST
DTSTART:20241103T070000
END:STANDARD
BEGIN:DAYLIGHT
TZOFFSETFROM:-0600
TZOFFSETTO:-0500
TZNAME:CDT
DTSTART:20250309T080000
END:DAYLIGHT
BEGIN:STANDARD
TZOFFSETFROM:-0500
TZOFFSETTO:-0600
TZNAME:CST
DTSTART:20251102T070000
END:STANDARD
BEGIN:DAYLIGHT
TZOFFSETFROM:-0600
TZOFFSETTO:-0500
TZNAME:CDT
DTSTART:20260308T080000
END:DAYLIGHT
BEGIN:STANDARD
TZOFFSETFROM:-0500
TZOFFSETTO:-0600
TZNAME:CST
DTSTART:20261101T070000
END:STANDARD
END:VTIMEZONE
BEGIN:VEVENT
DTSTART;TZID=America/Chicago:20250520T113000
DTEND;TZID=America/Chicago:20250520T123000
DTSTAMP:20260425T214005
CREATED:20250514T222025Z
LAST-MODIFIED:20250603T120611Z
UID:10000029-1747740600-1747744200@nac-issa.org
SUMMARY:NAC-ISSA May lunch: Investigating Foreign Tech from Online Retailers
DESCRIPTION:Join us for a chapter sponsored lunch with Michael Portera presenting Investigating Foreign Tech from Online Retailers \n\n\n\nWe live in a time where we can buy practically anything online. It’s very tempting to buy cheap products online\, including electronics. While saving money can be great\, what are we really getting here? Where did it really come from\, is it safe to use\, and what is really going on behind the scenes? Let’s find out! \n\n\n\nIn this talk\, we’ll track the supply chain of a foreign smartwatch on Amazon using various OSINT techniques. After going down the rabbit hole\, we’ll perform a hardware/software breakdown with automated and manual analyses (and further OSINT based on our findings). By the end of the talk\, you will have a better understanding of some of the tools and processes you can use for performing your own due diligence. \n\n\n\nLunch will be a Ted’s BBQ Potato Bar and our door prize this month is an ASUS Chromebook.
URL:https://nac-issa.org/event/nac-issa-may-lunch-investigating-foreign-tech-from-online-retailers/
LOCATION:Auburn University Research and Innovation Campus\, 345 Voyager Way\, Huntsville\, AL\, 345 Voyager Way\, Huntsville\, United States
END:VEVENT
END:VCALENDAR