BEGIN:VCALENDAR
VERSION:2.0
PRODID:-//NACISSA - ECPv6.15.20//NONSGML v1.0//EN
CALSCALE:GREGORIAN
METHOD:PUBLISH
X-ORIGINAL-URL:https://nac-issa.org
X-WR-CALDESC:Events for NACISSA
REFRESH-INTERVAL;VALUE=DURATION:PT1H
X-Robots-Tag:noindex
X-PUBLISHED-TTL:PT1H
BEGIN:VTIMEZONE
TZID:America/Chicago
BEGIN:DAYLIGHT
TZOFFSETFROM:-0600
TZOFFSETTO:-0500
TZNAME:CDT
DTSTART:20240310T080000
END:DAYLIGHT
BEGIN:STANDARD
TZOFFSETFROM:-0500
TZOFFSETTO:-0600
TZNAME:CST
DTSTART:20241103T070000
END:STANDARD
BEGIN:DAYLIGHT
TZOFFSETFROM:-0600
TZOFFSETTO:-0500
TZNAME:CDT
DTSTART:20250309T080000
END:DAYLIGHT
BEGIN:STANDARD
TZOFFSETFROM:-0500
TZOFFSETTO:-0600
TZNAME:CST
DTSTART:20251102T070000
END:STANDARD
BEGIN:DAYLIGHT
TZOFFSETFROM:-0600
TZOFFSETTO:-0500
TZNAME:CDT
DTSTART:20260308T080000
END:DAYLIGHT
BEGIN:STANDARD
TZOFFSETFROM:-0500
TZOFFSETTO:-0600
TZNAME:CST
DTSTART:20261101T070000
END:STANDARD
END:VTIMEZONE
BEGIN:VEVENT
DTSTART;TZID=America/Chicago:20250218T113000
DTEND;TZID=America/Chicago:20250218T123000
DTSTAMP:20260425T074820
CREATED:20250126T234145Z
LAST-MODIFIED:20250416T164858Z
UID:10000019-1739878200-1739881800@nac-issa.org
SUMMARY:Darktrace sponsors NAC-ISSA February lunch
DESCRIPTION:Darktrace will be the sponsor for our NAC-ISSA chapter lunch on Tuesday\, February 18\, 2025. \n\n\n\nDarktrace uses unsupervised machine learning to catch cyberattacks that often slip by rule-based approaches. These could be novel attacks\, insider threats\, supply chain breaches and other next-gen/AI techniques that seem to get smarter over time. With real world examples\, we’ll take a look at the technology thats shaping the future of cybersecurity\, where businesses can stay one step ahead of cybercriminals\, instead of the other way around. \n\n\n\nRegister now to block out our calendar.   Catering is by Walton’s Southern Table and one lucky attendee will win an HP Chromebook.
URL:https://nac-issa.org/event/darktrace-sponsors-nac-issa-february-lunch/
LOCATION:Auburn University Research and Innovation Campus\, 345 Voyager Way\, Huntsville\, AL\, 345 Voyager Way\, Huntsville\, United States
END:VEVENT
BEGIN:VEVENT
DTSTART;TZID=America/Chicago:20250220T170000
DTEND;TZID=America/Chicago:20250220T193000
DTSTAMP:20260425T074820
CREATED:20250126T231927Z
LAST-MODIFIED:20250126T231929Z
UID:10000018-1740070800-1740079800@nac-issa.org
SUMMARY:ISACA and NAC-ISSA cohost Beers for Engineers
DESCRIPTION:Join NAC-ISSA and ISACA for a networking event at InnerSpace Brewing on Thursday\, February 20.  Build your network of Cyber Security professionals in North Alabama and learn more about both organizations.  Beer and Pizza provided by the chapters.  Membership not required\, anyone in the North Alabama region with an interest in cyber security is welcome join us for this free event!
URL:https://nac-issa.org/event/isaca-and-nac-issa-cohost-beers-for-engineers/
LOCATION:InnerSpace Brewing\, 2414 Clinton Ave W\, Huntsville\, 35805\, United States
END:VEVENT
END:VCALENDAR