BEGIN:VCALENDAR
VERSION:2.0
PRODID:-//NACISSA - ECPv6.15.20//NONSGML v1.0//EN
CALSCALE:GREGORIAN
METHOD:PUBLISH
X-ORIGINAL-URL:https://nac-issa.org
X-WR-CALDESC:Events for NACISSA
REFRESH-INTERVAL;VALUE=DURATION:PT1H
X-Robots-Tag:noindex
X-PUBLISHED-TTL:PT1H
BEGIN:VTIMEZONE
TZID:America/Chicago
BEGIN:DAYLIGHT
TZOFFSETFROM:-0600
TZOFFSETTO:-0500
TZNAME:CDT
DTSTART:20250309T080000
END:DAYLIGHT
BEGIN:STANDARD
TZOFFSETFROM:-0500
TZOFFSETTO:-0600
TZNAME:CST
DTSTART:20251102T070000
END:STANDARD
BEGIN:DAYLIGHT
TZOFFSETFROM:-0600
TZOFFSETTO:-0500
TZNAME:CDT
DTSTART:20260308T080000
END:DAYLIGHT
BEGIN:STANDARD
TZOFFSETFROM:-0500
TZOFFSETTO:-0600
TZNAME:CST
DTSTART:20261101T070000
END:STANDARD
BEGIN:DAYLIGHT
TZOFFSETFROM:-0600
TZOFFSETTO:-0500
TZNAME:CDT
DTSTART:20270314T080000
END:DAYLIGHT
BEGIN:STANDARD
TZOFFSETFROM:-0500
TZOFFSETTO:-0600
TZNAME:CST
DTSTART:20271107T070000
END:STANDARD
END:VTIMEZONE
BEGIN:VEVENT
DTSTART;TZID=America/Chicago:20260115T180000
DTEND;TZID=America/Chicago:20260115T200000
DTSTAMP:20260422T120210
CREATED:20251216T163658Z
LAST-MODIFIED:20260112T002437Z
UID:10000057-1768500000-1768507200@nac-issa.org
SUMMARY:Tech Thursday  Inside the Shark Tank
DESCRIPTION:DC256 and NAC-ISSA kick off our first “Tech Thursday” hands on workshop with “Inside the Shark Tank”.  See inside of network traffic with the Wireshark network protocol analyzer. Pick apart packets piece by piece as we analyze networking traffic to tell a story of how different network devices talk between one another. Covering tips and tricks to quickly identify and troubleshoot networking issues\, Attendees will learn how to capture and perform basic analysis on network traffic. \n\n\n\nAttendees will learn how to capture and perform basic analysis on network traffic. Attendees should already understand networking basics\, such as the OSI model\, IP addresses\, MAC addresses\, the client and server relationship\,the differences between TCP and UDP\, and the concept of port numbers.  DC256 posted a link for the event\, which includes the download for Wireshark and PCAPs that we’ll be covering: https://dc256.org/tt/wireshark.  The event supports anything on Windows\, Mac\, and Linux\, although Windows is preferred.   \n\n\n\nDC256 requests attendees download the files in advance so that we can get everything rolling quickly.   \n\n\n\nOur instructor goes by the name Oyster.  Oyster has been working as a cybersecurity professional for over a decade. His first love of computers started with networking fifteen years ago\, and hasn’t slowed down since. Over the years\, Oyster has held three Cisco Certified Networking Associate (CCNA)-level certifications. Oyster enjoys hacking on various objects in his spare time. His favorite shark is a hammerhead.
URL:https://nac-issa.org/event/tech-thursday-inside-the-shark-tank/
LOCATION:Gigaparts\, Address 6123 University Drive\, Huntsville\, 35806\, United States
END:VEVENT
BEGIN:VEVENT
DTSTART;TZID=America/Chicago:20260116T180000
DTEND;TZID=America/Chicago:20260116T200000
DTSTAMP:20260422T120210
CREATED:20251229T194814Z
LAST-MODIFIED:20251229T194815Z
UID:10000059-1768586400-1768593600@nac-issa.org
SUMMARY:Ignition Under Fire: Exploring Cybersecurity Attack Vectors in Rocket Propulsion
DESCRIPTION:The increasing reliance on digital systems in modern rocketry\, from design and manufacturing to launch operations and in-flight control\, introduces significant cybersecurity vulnerabilities. Presentation\, “Ignition Under Fire\,” by Paul Coggin\, explores the diverse attack vectors targeting rocket propulsion systems\, examining potential consequences ranging from mission delays and data breaches to catastrophic failures. We will analyze the complex interplay of software\, hardware\, and network components within propulsion systems\, identifying key weaknesses susceptible to exploitation. The presentation will delve into specific attack scenarios\, software manipulation\, sensor spoofing\, and network intrusion\, highlighting the potential impact on critical rocket equation parameters like delta V\, thrust\, fuel flow\, and combustion stability. Furthermore\, we will discuss the unique challenges in securing these complex systems. We will explore how a Zero Trust architecture can be implemented to enhance security by enforcing strict access control\, micro-segmentation\, and continuous authentication and authorization throughout the propulsion system. \n\n\n\nNote:  This is a DC256 event and registration or details handled through their website and on discord.
URL:https://nac-issa.org/event/ignition-under-fire-exploring-cybersecurity-attack-vectors-in-rocket-propulsion/
LOCATION:Gigaparts\, Address 6123 University Drive\, Huntsville\, 35806\, United States
END:VEVENT
BEGIN:VEVENT
DTSTART;TZID=America/Chicago:20260127T113000
DTEND;TZID=America/Chicago:20260127T123000
DTSTAMP:20260422T120210
CREATED:20251218T213943Z
LAST-MODIFIED:20260126T171833Z
UID:10000058-1769513400-1769517000@nac-issa.org
SUMMARY:Insight Assurance sponsors NAC-ISSA Jan 2026 chapter lunch
DESCRIPTION:Join us for the first NAC-ISSA chapter lunch as Insight Assurance comes to discuss some of the common pitfalls and issues that they have observed in dealing with clients on their CMMC journey.   The “view from the trenches” is to be an engaging discussion that isn’t just a rehash of generic CMMC information. Attendees will walk away with some lessons learned that they can put into practice as they achieve certification for themselves.  \n\n\n\nInsight Assurance helps take the Complexity Out of Compliance.  Regulatory requirements are evolving. Cyber threats are increasing.  Insight Assurance helps you stay compliant\, secure\, and audit-ready — without the headaches. \n\n\n\nNote the lunch is not on our usual third Tuesday due to holidays but will be held Tuesday\, January 27. The venue is the Auburn Research and Innovation Center in Research Park and catering is by Rosies.  This month’s door prize will be noise cancelling BOSE QuietComfort SC headphones. \n\n\n\nRegister today to get this on your calendar so you won’t miss the kickoff lunch for 2026.
URL:https://nac-issa.org/event/insight-assurance-sponsors-nac-issa-jan-2026-chapter-lunch/
LOCATION:Auburn University Research and Innovation Campus\, 345 Voyager Way\, Huntsville\, AL\, 345 Voyager Way\, Huntsville\, United States
END:VEVENT
END:VCALENDAR