BEGIN:VCALENDAR
VERSION:2.0
PRODID:-//NACISSA - ECPv6.15.20//NONSGML v1.0//EN
CALSCALE:GREGORIAN
METHOD:PUBLISH
X-WR-CALNAME:NACISSA
X-ORIGINAL-URL:https://nac-issa.org
X-WR-CALDESC:Events for NACISSA
REFRESH-INTERVAL;VALUE=DURATION:PT1H
X-Robots-Tag:noindex
X-PUBLISHED-TTL:PT1H
BEGIN:VTIMEZONE
TZID:America/Chicago
BEGIN:DAYLIGHT
TZOFFSETFROM:-0600
TZOFFSETTO:-0500
TZNAME:CDT
DTSTART:20250309T080000
END:DAYLIGHT
BEGIN:STANDARD
TZOFFSETFROM:-0500
TZOFFSETTO:-0600
TZNAME:CST
DTSTART:20251102T070000
END:STANDARD
BEGIN:DAYLIGHT
TZOFFSETFROM:-0600
TZOFFSETTO:-0500
TZNAME:CDT
DTSTART:20260308T080000
END:DAYLIGHT
BEGIN:STANDARD
TZOFFSETFROM:-0500
TZOFFSETTO:-0600
TZNAME:CST
DTSTART:20261101T070000
END:STANDARD
BEGIN:DAYLIGHT
TZOFFSETFROM:-0600
TZOFFSETTO:-0500
TZNAME:CDT
DTSTART:20270314T080000
END:DAYLIGHT
BEGIN:STANDARD
TZOFFSETFROM:-0500
TZOFFSETTO:-0600
TZNAME:CST
DTSTART:20271107T070000
END:STANDARD
END:VTIMEZONE
BEGIN:VEVENT
DTSTART;TZID=America/Chicago:20260415T080000
DTEND;TZID=America/Chicago:20260416T170000
DTSTAMP:20260421T045203
CREATED:20260206T001454Z
LAST-MODIFIED:20260206T001456Z
UID:10000065-1776240000-1776358800@nac-issa.org
SUMMARY:Southeast Cybersecurity Summit
DESCRIPTION:The Central Alabama Information Systems Security Association (CA-ISSA)\, InfraGard Birmingham Member Alliance (IBMA) and TechBirmingham are jointly hosting a cybersecurity conference in April and invite anyone interested to attend.  BSides Huntsville will return in 2027 so NAC-ISSA.  Chapter members and guests are encouraged to fill their 2026 need for content this spring with the Southeast Cybersecurity Summit. \n\n\n\nAbout the Summit\n\n\n\nThe purpose of the Summit is to strengthen and promote the internet security profession in the southeastern United States region. That goal is achieved through event activities which result in relationship building\, information sharing\, and ongoing education and training focused on current technology challenges and solutions.The Summit will highlight the strength\, diversity and economic impact of the technology companies and talent working and living in the southeast. \n\n\n\nNOTE:  This is not a NAC-ISSA event.  Registration is handled via the event website.
URL:https://nac-issa.org/event/southeast-cybersecurity-summit/
LOCATION:Birmingham Jefferson Convention Center\, 2100 Richard Arrington Jr Blvd N\, Birmingham\, 35203\, United States
END:VEVENT
END:VCALENDAR