BEGIN:VCALENDAR
VERSION:2.0
PRODID:-//NACISSA - ECPv6.15.20//NONSGML v1.0//EN
CALSCALE:GREGORIAN
METHOD:PUBLISH
X-ORIGINAL-URL:https://nac-issa.org
X-WR-CALDESC:Events for NACISSA
REFRESH-INTERVAL;VALUE=DURATION:PT1H
X-Robots-Tag:noindex
X-PUBLISHED-TTL:PT1H
BEGIN:VTIMEZONE
TZID:America/Chicago
BEGIN:DAYLIGHT
TZOFFSETFROM:-0600
TZOFFSETTO:-0500
TZNAME:CDT
DTSTART:20250309T080000
END:DAYLIGHT
BEGIN:STANDARD
TZOFFSETFROM:-0500
TZOFFSETTO:-0600
TZNAME:CST
DTSTART:20251102T070000
END:STANDARD
BEGIN:DAYLIGHT
TZOFFSETFROM:-0600
TZOFFSETTO:-0500
TZNAME:CDT
DTSTART:20260308T080000
END:DAYLIGHT
BEGIN:STANDARD
TZOFFSETFROM:-0500
TZOFFSETTO:-0600
TZNAME:CST
DTSTART:20261101T070000
END:STANDARD
BEGIN:DAYLIGHT
TZOFFSETFROM:-0600
TZOFFSETTO:-0500
TZNAME:CDT
DTSTART:20270314T080000
END:DAYLIGHT
BEGIN:STANDARD
TZOFFSETFROM:-0500
TZOFFSETTO:-0600
TZNAME:CST
DTSTART:20271107T070000
END:STANDARD
END:VTIMEZONE
BEGIN:VEVENT
DTSTART;TZID=America/Chicago:20260416T180000
DTEND;TZID=America/Chicago:20260416T200000
DTSTAMP:20260423T103653
CREATED:20260407T145825Z
LAST-MODIFIED:20260409T153515Z
UID:10000072-1776362400-1776369600@nac-issa.org
SUMMARY:Tech Thursday presents The Network Cartographer: The Art of Digital Door-Knocking with NMap
DESCRIPTION:Taken straight out of a hacker’s toolkit\, learn how to figure out what’s really running on your network!   \n\n\n\nLearn to look through the eyes of a hacker as we investigate open services and ports\, so you can understand what steps to take to lower your footprint. This workshop will tell you how to quickly and definitively understand your network exposure once and for all. \n\n\n\nAttendees should download and install Nmap on their machine prior to the beginning of class. Nmap can be found at: https://nmap.org/download
URL:https://nac-issa.org/event/tech-thursday-presents-the-network-cartographer-the-art-of-digital-door-knocking-with-nmap/
LOCATION:GigaParts\, 6123 University Dr NW\, Huntsville\, 35806\, United States
END:VEVENT
BEGIN:VEVENT
DTSTART;TZID=America/Chicago:20260220T180000
DTEND;TZID=America/Chicago:20260220T200000
DTSTAMP:20260423T103653
CREATED:20260213T184109Z
LAST-MODIFIED:20260213T184110Z
UID:10000066-1771610400-1771617600@nac-issa.org
SUMMARY:DC256 Presents: Artificial Doubt: The Collapse of Trust in Digital Materiel
DESCRIPTION:Join DC256 at GigaParts on February 20th @ 6:00PM! Rodney V. will be giving a presentation — Digital Trust: The Collapse of Trust in Digital Materiel. We will also be making a special announcement at the event\, so stay tuned! \n\n\n\nFor decades\, digital evidence has quietly relied on a fragile assumption that authenticity could be inferred after the fact. Hashes\, metadata\, chain-of-custody forms\, and expert testimony were “good enough” when fabricating convincing images\, video\, or audio was expensive and rare. Generative AI shattered that assumption and we need better means of security against threats that exploit this ambiguity. \n\n\n\nThis month’s presentation is sponsored by the North Alabama Chapter – Information Systems Security Association (NAC-ISSA).  The event is free to attend\, registration not required.
URL:https://nac-issa.org/event/dc256-presents-artificial-doubt-the-collapse-of-trust-in-digital-materiel/
LOCATION:GigaParts\, 6123 University Dr NW\, Huntsville\, 35806\, United States
END:VEVENT
END:VCALENDAR